Workbook
Name CHK_TOL: Inputs_Con!$F$138
Name SMU: COMMUS_23FS_Model!#REF!
Name SMU: Inputs_Con!$F$146
Name USDMN: COMMUS_23FS_Model!#REF!
Name USDMN: Inputs_Con!$F$148

Sheet ToDo
B3: AW comments 22 July 2025
B5: SHEET | C5: LINK | D5: LINK
A7: =MAX(A$5:A6) + 1 -> 1 | B7: =COMMUS_Model!A1 -> COMMUS_Model | C7: =COMMUS_Model!E1208 -> Government share: excluding payroll & indirect taxes | E7: revised AETR without indirect tax formula
A9: =MAX(A$5:A8) + 1 -> 2 | B9: =Charts!A1 -> Charts | E9: All charts hard coded to specific time period! V.Clunky approach rather than using filters
E10: but at least timeline starts 2006
A12: =MAX(A$5:A11) + 1 -> 3 | B12: =COMMUS_Model!E18 -> 2025 onwards flag | E12: 2024 was hardcoded in formula
E13: Several instances of hardcoding years in formulas. Even if unlikely to change should be made explicit as constants
A15: =MAX(A$5:A14) + 1 -> 4 | B15: =COMMUS_Model!A1 -> COMMUS_Model | C15: =COMMUS_Model!E222 -> Copper sulfide concentrates price ratio future | E15: Strange variation in FS sulphides price versus Cu
E16: Do we know why?
A18: =MAX(A$5:A17) + 1 -> 5 | B18: =COMMUS_Model!$A$1 -> COMMUS_Model | C18: =COMMUS_Model!E191 -> Other copper to copper benchmark ratio | E18: Could alternatively use ratio from FS for this, rather than arbitrary avge of 2 years
A20: =MAX(A$5:A19) + 1 -> 6 | B20: =COMMUS_Model!F486 -> Alternative | E20: Selected cost per unit revenue. Not an appropriate basis for projecting costs. What if Cu price jumps?
E21: Some correlation for sure (if we had data), but not linear and we don't usually model costs that way
A23: =MAX(A$5:A22) + 1 -> 7 | B23: =COMMUS_Model!$A$1 -> COMMUS_Model | C23: ='T&E'!E43 -> Cost inflation from 2022 | E23: created new cost inflation index from 2022, as that’s when costs determined in FS and from unit opex
E24: means about ~10% increase in costs versus original
E25: to consider price esclation for FS case, but I think ok.
A27: =MAX(A$5:A26) + 1 -> 8 | B27: =COMMUS_Model!E1197 -> PARTICIPANT CASHFLOWS | E27: why start the sumproduct calcs in 2011? Does no harm but weird…
A29: =MAX(A$5:A28) + 1 -> 9 | B29: =Scenarios!B28 -> Production case: FS or original | E29: brought these into scenario sheet
B30: =Scenarios!B29 -> Operating costs: FS or original
B31: =Scenarios!B30 -> Capital costs: FS or original
B32: =Scenarios!B31 -> Depreciation: calculated or per FS

Sheet Track
A1: =RIGHT(CELL("filename", $A$3), LEN(CELL("filename", $A$3)) - SEARCH("]", CELL("filename", $A$3))) -> Track
F2: =Track!$F$80 -> 0 | G2: Error chks
F3: =SUM(I9:I78) -> 0 | G3: Track chgs
E4: 23July.1 | F4: <= Compare live results to
I5: =MATCH(E4, L5:P5, 0) -> 2 | J5: Difference | M5: 23July.1 | N5: 21July.1 | O5: Baseline
A6: DASHBOARD PARAMETERS AND RESULTS
B8: Dashboard parameters
E9: =Inputs_Con!E40 -> Copper forecast price | F9: =Inputs_Con!F40 -> IMF_WEO | G9: =Inputs_Con!G40 -> option selected | I9: =IF(ABS(J9) > CHK_TOL, 1, 0) -> 0 | J9: =IF(F9=INDEX(L9:O9, $I$5), 0, 1) -> 0 | M9: IMF_WEO | N9: IMF_WEO | O9: IMF_WEO | R9: Purpose of this sheet is to save a set of baseline results so that the model can be confirmed to be / brought back to baseline, or changes in results over time can be documented. Process for creating a new saved case:
E10: =Inputs_Con!E41 -> Cobalt forecast price | F10: =Inputs_Con!F41 -> IMF_WEO | G10: =Inputs_Con!G41 -> option selected | I10: =IF(ABS(J10) > CHK_TOL, 1, 0) -> 0 | J10: =IF(F10=INDEX(L10:O10, $I$5), 0, 1) -> 0 | M10: IMF_WEO | N10: IMF_WEO | O10: IMF_WEO
E11: =Inputs_Con!E42 -> Cu realized price method | F11: =Inputs_Con!F42 -> SOM_Contract | G11: =Inputs_Con!G42 -> selected | I11: =IF(ABS(J11) > CHK_TOL, 1, 0) -> 0 | J11: =IF(F11=INDEX(L11:O11, $I$5), 0, 1) -> 0 | M11: SOM_Contract | N11: SOM_Contract | O11: %LME(actual)
E12: =Inputs_Con!E43 -> Copper: Realised Price vs LME for "LMEAssumed" | F12: =Inputs_Con!F43 -> 0.95 | G12: =Inputs_Con!G43 -> % | I12: =IF(ABS(J12) > CHK_TOL, 1, 0) -> 0 | J12: =IF(OR(ISTEXT(F12), ISTEXT(INDEX(L12:O12, $I$5))), 0, F12 - INDEX(L12:O12, $I$5)) -> 0 | M12: 0.95 | N12: 0.95 | O12: 0.95
E13: =Inputs_Con!E44 -> Co realized price method | F13: =Inputs_Con!F44 -> SOM_Contract | G13: =Inputs_Con!G44 -> selected | I13: =IF(ABS(J13) > CHK_TOL, 1, 0) -> 0 | J13: =IF(F13=INDEX(L13:O13, $I$5), 0, 1) -> 0 | M13: SOM_Contract | N13: SOM_Contract | O13: %LME(actual) | R13: 1. Select column M
E14: =Inputs_Con!E45 -> Cobalt: Realised Price vs LME for "LMEAssumed" | F14: =Inputs_Con!F45 -> 0.9 | G14: =Inputs_Con!G45 -> % | I14: =IF(ABS(J14) > CHK_TOL, 1, 0) -> 0 | J14: =IF(OR(ISTEXT(F14), ISTEXT(INDEX(L14:O14, $I$5))), 0, F14 - INDEX(L14:O14, $I$5)) -> 0 | M14: 0.9 | N14: 0.9 | O14: 0.9 | R14: 2. Copy column M and immediately Right click insert copied cells. This duplicates the existing saved results set
E15: =Inputs_Con!E46 -> Apply selling costs FS23 | F15: =Inputs_Con!F46 -> no | G15: =Inputs_Con!G46 -> selected | I15: =IF(ABS(J15) > CHK_TOL, 1, 0) -> 0 | J15: =IF(OR(ISTEXT(F15), ISTEXT(INDEX(L15:O15, $I$5))), 0, F15 - INDEX(L15:O15, $I$5)) -> 0 | M15: no | N15: no | O15: Yes | R15: 3. Now copy the live results from column F
E16: =Scenarios!B$45 -> Discount rate | F16: =Scenarios!C$45 -> 0.1 | G16: =Inputs_Con!G21 -> %nominal | I16: =IF(ABS(J16) > CHK_TOL, 1, 0) -> 0 | J16: =IF(OR(ISTEXT(F16), ISTEXT(INDEX(L16:O16, $I$5))), 0, F16 - INDEX(L16:O16, $I$5)) -> 0 | M16: 0.1 | N16: 0.1 | O16: 0.1
E17: =Inputs_Con!E$29 -> Forecast / point forward year | F17: =Inputs_Con!F$29 -> 2025 | G17: =Inputs_Con!G$29 -> year | I17: =IF(ABS(J17) > CHK_TOL, 1, 0) -> 0 | J17: =IF(OR(ISTEXT(F17), ISTEXT(INDEX(L17:O17, $I$5))), 0, F17 - INDEX(L17:O17, $I$5)) -> 0 | M17: 2025 | N17: 2025 | O17: 2025 | R17: 4. Paste as values over the newly created duplicate saved results
E18: =Inputs_Con!E$33 -> Copper production sensitivity (forecast period) | F18: =Inputs_Con!F$33 -> 1 | G18: =Inputs_Con!G$33 -> % | I18: =IF(ABS(J18) > CHK_TOL, 1, 0) -> 0 | J18: =IF(OR(ISTEXT(F18), ISTEXT(INDEX(L18:O18, $I$5))), 0, F18 - INDEX(L18:O18, $I$5)) -> 0 | M18: 1 | N18: 1 | O18: 1 | R18: 5. Rename the new saved results case in row 4
E19: =Inputs_Con!E$34 -> Cobalt production sensitivity (forecast period) | F19: =Inputs_Con!F$34 -> 1 | G19: =Inputs_Con!G$34 -> % | I19: =IF(ABS(J19) > CHK_TOL, 1, 0) -> 0 | J19: =IF(OR(ISTEXT(F19), ISTEXT(INDEX(L19:O19, $I$5))), 0, F19 - INDEX(L19:O19, $I$5)) -> 0 | M19: 1 | N19: 1 | O19: 1 | R19: 6. Track sheet will show differences between live results and saved case selected at E4
E20: =Inputs_Con!E$35 -> Operating cost Sensitivity (forecast period) | F20: =Inputs_Con!F$35 -> 1 | G20: =Inputs_Con!G$35 -> % | I20: =IF(ABS(J20) > CHK_TOL, 1, 0) -> 0 | J20: =IF(OR(ISTEXT(F20), ISTEXT(INDEX(L20:O20, $I$5))), 0, F20 - INDEX(L20:O20, $I$5)) -> 0 | M20: 1 | N20: 1 | O20: 1 | R20: 7. Additional results and/or parameters can be added to results set
E21: =Inputs_Con!E$36 -> Capital cost sensitivity (forecast period) | F21: =Inputs_Con!F$36 -> 1 | G21: =Inputs_Con!G$36 -> % | I21: =IF(ABS(J21) > CHK_TOL, 1, 0) -> 0 | J21: =IF(OR(ISTEXT(F21), ISTEXT(INDEX(L21:O21, $I$5))), 0, F21 - INDEX(L21:O21, $I$5)) -> 0 | M21: 1 | N21: 1 | O21: 1
E22: =Inputs_TS!E$122 -> Cobalt Payable Rate applied in model | F22: =Inputs_TS!F$122 -> 0.7 | G22: =Inputs_TS!G$122 -> % | I22: =IF(ABS(J22) > CHK_TOL, 1, 0) -> 0 | J22: =IF(OR(ISTEXT(F22), ISTEXT(INDEX(L22:O22, $I$5))), 0, F22 - INDEX(L22:O22, $I$5)) -> 0 | M22: 0.7 | N22: 0.7 | O22: 0.7
E23: =Inputs_TS!E$114 -> Som contract: placeholder assumption of third party sales: Cu | F23: =Inputs_TS!F$114 -> 0.5 | G23: =Inputs_TS!G$114 -> % | I23: =IF(ABS(J23) > CHK_TOL, 1, 0) -> 0 | J23: =IF(OR(ISTEXT(F23), ISTEXT(INDEX(L23:O23, $I$5))), 0, F23 - INDEX(L23:O23, $I$5)) -> 0 | M23: 0.5 | N23: 0.5 | O23: 0.5
B25: =Dashboard!C$19 -> Project cashflows from: 2025
E26: =Dashboard!C$20 -> Copper production incl Sens. | F26: =Dashboard!D$20 -> 770.0305 | G26: =Dashboard!E$20 -> KT Cu | I26: =IF(ABS(J26) > CHK_TOL, 1, 0) -> 0 | J26: =IF(OR(ISTEXT(F26), ISTEXT(INDEX(L26:O26, $I$5))), 0, F26 - INDEX(L26:O26, $I$5)) -> 0 | M26: 770.0305 | N26: 770.0305 | O26: 770.0305
E27: =Dashboard!C$21 -> Cobalt production incl Sens. | F27: =Dashboard!D$21 -> 12.494163 | G27: =Dashboard!E$21 -> KT Co | I27: =IF(ABS(J27) > CHK_TOL, 1, 0) -> 0 | J27: =IF(OR(ISTEXT(F27), ISTEXT(INDEX(L27:O27, $I$5))), 0, F27 - INDEX(L27:O27, $I$5)) -> 0 | M27: 12.494163 | N27: 12.494163 | O27: 12.494163
E28: =Dashboard!C$22 -> Ratio Co to Cu production | F28: =Dashboard!D$22 -> 0.016225543 | G28: =Dashboard!E$22 -> ratio | I28: =IF(ABS(J28) > CHK_TOL, 1, 0) -> 0 | J28: =IF(OR(ISTEXT(F28), ISTEXT(INDEX(L28:O28, $I$5))), 0, F28 - INDEX(L28:O28, $I$5)) -> 0 | M28: 0.016225543 | N28: 0.016225543 | O28: 0.016225543
E29: =Dashboard!C$23 -> Copper net revenue | F29: =Dashboard!D$23 -> 6407.5024 | G29: =Dashboard!E$23 -> $ mn | I29: =IF(ABS(J29) > CHK_TOL, 1, 0) -> 0 | J29: =IF(OR(ISTEXT(F29), ISTEXT(INDEX(L29:O29, $I$5))), 0, F29 - INDEX(L29:O29, $I$5)) -> 0 | M29: 6407.5024 | N29: 6407.5024 | O29: 5511.1985
E30: =Dashboard!C$24 -> Cobalt net revenue | F30: =Dashboard!D$24 -> 327.94018 | G30: =Dashboard!E$24 -> $ mn | I30: =IF(ABS(J30) > CHK_TOL, 1, 0) -> 0 | J30: =IF(OR(ISTEXT(F30), ISTEXT(INDEX(L30:O30, $I$5))), 0, F30 - INDEX(L30:O30, $I$5)) -> 0 | M30: 327.94018 | N30: 327.94018 | O30: 302.28961
E31: =Dashboard!C$25 -> Total net revenue | F31: =Dashboard!D$25 -> 6735.4425 | G31: =Dashboard!E$25 -> $ mn | I31: =IF(ABS(J31) > CHK_TOL, 1, 0) -> 0 | J31: =IF(OR(ISTEXT(F31), ISTEXT(INDEX(L31:O31, $I$5))), 0, F31 - INDEX(L31:O31, $I$5)) -> 0 | M31: 6735.4425 | N31: 6735.4425 | O31: 5813.4881
E32: =Dashboard!C$26 -> Operating costs, including Sens. | F32: =Dashboard!D$26 -> 4000.4894 | G32: =Dashboard!E$26 -> $ mn | I32: =IF(ABS(J32) > CHK_TOL, 1, 0) -> 0 | J32: =IF(OR(ISTEXT(F32), ISTEXT(INDEX(L32:O32, $I$5))), 0, F32 - INDEX(L32:O32, $I$5)) -> 0 | M32: 4000.4894 | N32: 3623.4971 | O32: 3639.1088
E33: =Dashboard!C$27 -> Capital costs, including Sens. | F33: =Dashboard!D$27 -> 0 | G33: =Dashboard!E$27 -> $ mn | I33: =IF(ABS(J33) > CHK_TOL, 1, 0) -> 0 | J33: =IF(OR(ISTEXT(F33), ISTEXT(INDEX(L33:O33, $I$5))), 0, F33 - INDEX(L33:O33, $I$5)) -> 0 | M33: 0 | N33: 0 | O33: 0
E34: =Dashboard!C$28 -> Project costs | F34: =Dashboard!D$28 -> 4000.4894 | G34: =Dashboard!E$28 -> $ mn | I34: =IF(ABS(J34) > CHK_TOL, 1, 0) -> 0 | J34: =IF(OR(ISTEXT(F34), ISTEXT(INDEX(L34:O34, $I$5))), 0, F34 - INDEX(L34:O34, $I$5)) -> 0 | M34: 4000.4894 | N34: 3623.4971 | O34: 3639.1088
E35: =Dashboard!C$29 -> Project cashflows before fiscal regime | F35: =Dashboard!D$29 -> 2734.9532 | G35: =Dashboard!E$29 -> $ mn | I35: =IF(ABS(J35) > CHK_TOL, 1, 0) -> 0 | J35: =IF(OR(ISTEXT(F35), ISTEXT(INDEX(L35:O35, $I$5))), 0, F35 - INDEX(L35:O35, $I$5)) -> 0 | M35: 2734.9532 | N35: 3111.9454 | O35: 2174.3794
B37: ="Participant results USD mn real from: " & $F$17 -> Participant results USD mn real from: 2025
E38: =Dashboard!C$34 -> Government revenues excl Gecamines participation | F38: =Dashboard!D$34 -> 1466.4175 | G38: $ mn | I38: =IF(ABS(J38) > CHK_TOL, 1, 0) -> 0 | J38: =IF(OR(ISTEXT(F38), ISTEXT(INDEX(L38:O38, $I$5))), 0, F38 - INDEX(L38:O38, $I$5)) -> 0 | M38: 1466.4175 | N38: 1561.3685 | O38: 1225.6276
E39: =Dashboard!C$35 -> Gecamines share of cashflows after repaying loan | F39: =Dashboard!D$35 -> 577.20002 | G39: $ mn | I39: =IF(ABS(J39) > CHK_TOL, 1, 0) -> 0 | J39: =IF(OR(ISTEXT(F39), ISTEXT(INDEX(L39:O39, $I$5))), 0, F39 - INDEX(L39:O39, $I$5)) -> 0 | M39: 577.20002 | N39: 663.78993 | O39: 451.47101
E40: =Dashboard!C$36 -> Government revenues incl Gecamines | F40: =Dashboard!D$36 -> 2043.6175 | G40: $ mn | I40: =IF(ABS(J40) > CHK_TOL, 1, 0) -> 0 | J40: =IF(OR(ISTEXT(F40), ISTEXT(INDEX(L40:O40, $I$5))), 0, F40 - INDEX(L40:O40, $I$5)) -> 0 | M40: 2043.6175 | N40: 2225.1584 | O40: 1677.0986
E41: =Dashboard!C$37 -> Zijin final cashflows | F41: =Dashboard!D$37 -> 1054.7018 | G41: $ mn | I41: =IF(ABS(J41) > CHK_TOL, 1, 0) -> 0 | J41: =IF(OR(ISTEXT(F41), ISTEXT(INDEX(L41:O41, $I$5))), 0, F41 - INDEX(L41:O41, $I$5)) -> 0 | M41: 1054.7018 | N41: 1212.9252 | O41: 824.96066
E42: =Dashboard!C$38 -> Net debt cashflows: 3rd party lenders | F42: =Dashboard!D$38 -> 31.6821 | G42: $ mn | I42: =IF(ABS(J42) > CHK_TOL, 1, 0) -> 0 | J42: =IF(OR(ISTEXT(F42), ISTEXT(INDEX(L42:O42, $I$5))), 0, F42 - INDEX(L42:O42, $I$5)) -> 0 | M42: 31.6821 | N42: 31.6821 | O42: 31.6821
E43: =Dashboard!C$39 -> Additional govt revenues incl. in project costs | F43: =Dashboard!D$39 -> 395.04833 | G43: $ mn | I43: =IF(ABS(J43) > CHK_TOL, 1, 0) -> 0 | J43: =IF(OR(ISTEXT(F43), ISTEXT(INDEX(L43:O43, $I$5))), 0, F43 - INDEX(L43:O43, $I$5)) -> 0 | M43: 395.04833 | N43: 357.82034 | O43: 359.36199
...

Sheet Dashboard
A1: =RIGHT( CELL("filename",A1), LEN( CELL("filename",A1)) - SEARCH("]", CELL("filename",A1))) -> Dashboard
G2: =Inputs_Con!F8 -> COMMUS Copper Mine | M2: =Track!F$80 -> 0 | N2: Error chks
G3: first draft model | I3: =Inputs_Con!F9 -> 45839 | M3: =Track!F$3 -> 0 | N3: Track chgs
C6: SCENARIO
C7: Scenario | D7: Base | E7: selected
C8: Forecast / point forward year | D8: 2025 | E8: year
C10: Headlines
C12: Government aggregate revenue | D12: =D58 -> 1466.4175 | E12: $ mn
C13: Gecamines participation | D13: =D59 -> 577.20002 | E13: $ mn
C14: Government total | D14: =D12 + D13 -> 2043.6175 | E14: $ mn
C15: Govt share excluding indirect taxes | D15: =D41 -> 0.39173219 | E15: %
C17: Investor NPV | D17: =E37 -> 790.36833 | E17: $mn NPV10
C19: ="Project cashflows from: " & D8 -> Project cashflows from: 2025
C20: =COMMUS_Model!E$1157 -> Copper production incl Sens. | D20: =COMMUS_Model!N$1157 -> 770.0305 | E20: =COMMUS_Model!G$1157 -> KT Cu
C21: =COMMUS_Model!E$1158 -> Cobalt production incl Sens. | D21: =COMMUS_Model!N$1158 -> 12.494163 | E21: =COMMUS_Model!G$1158 -> KT Co
C22: =COMMUS_Model!E$1159 -> Ratio Co to Cu production | D22: =COMMUS_Model!N$1159 -> 0.016225543 | E22: =COMMUS_Model!G$1159 -> ratio
C23: =COMMUS_Model!E$1167 -> Copper net revenue | D23: =COMMUS_Model!N$1167 -> 6407.5024 | E23: =COMMUS_Model!G$1167 -> $ mn
C24: =COMMUS_Model!E$1168 -> Cobalt net revenue | D24: =COMMUS_Model!N$1168 -> 327.94018 | E24: =COMMUS_Model!G$1168 -> $ mn
C25: =COMMUS_Model!E$1169 -> Total net revenue | D25: =COMMUS_Model!N$1169 -> 6735.4425 | E25: =COMMUS_Model!G$1169 -> $ mn
C26: =COMMUS_Model!E$1171 -> Operating costs, including Sens. | D26: =COMMUS_Model!N$1171 -> 4000.4894 | E26: =COMMUS_Model!G$1171 -> $ mn
C27: =COMMUS_Model!E$1172 -> Capital costs, including Sens. | D27: =COMMUS_Model!N$1172 -> 0 | E27: =COMMUS_Model!G$1172 -> $ mn
C28: =COMMUS_Model!E$1173 -> Project costs | D28: =COMMUS_Model!N$1173 -> 4000.4894 | E28: =COMMUS_Model!G$1173 -> $ mn
C29: =COMMUS_Model!E$1175 -> Project cashflows before fiscal regime | D29: =COMMUS_Model!N$1175 -> 2734.9532 | E29: =COMMUS_Model!G$1175 -> $ mn
C30: =C29 & " check" -> Project cashflows before fiscal regime check | D30: =IF( ABS(D29 - D33) > CHK_TOL, 1, 0) -> 0 | E30: check
C32: ="Participant results from: " & D8 & " USD mn" -> Participant results from: 2025 USD mn | D32: undiscounted | E32: NPV
C33: =COMMUS_Model!E$1199 -> Project cashflow before tax | D33: =COMMUS_Model!N$1199 -> 2734.9532 | E33: =COMMUS_Model!N$1212 -> 2041.8332
C34: =COMMUS_Model!E$1200 -> Government revenues excl Gecamines participation | D34: =COMMUS_Model!N$1200 -> 1466.4175 | E34: =COMMUS_Model!N$1213 -> 1069.6507
C35: =COMMUS_Model!E$1201 -> Gecamines share of cashflows after repaying loan | D35: =COMMUS_Model!N$1201 -> 577.20002 | E35: =COMMUS_Model!N$1214 -> 432.53988
C36: =COMMUS_Model!E$1202 -> Government revenues incl Gecamines | D36: =COMMUS_Model!N$1202 -> 2043.6175 | E36: =COMMUS_Model!N$1215 -> 1502.1906
C37: =COMMUS_Model!E$1203 -> Zijin final cashflows | D37: =COMMUS_Model!N$1203 -> 1054.7018 | E37: =COMMUS_Model!N$1216 -> 790.36833
C38: =COMMUS_Model!E$1204 -> Net debt cashflows: 3rd party lenders | D38: =COMMUS_Model!N$1204 -> 31.6821 | E38: =COMMUS_Model!N$1217 -> 28.85892
C39: =COMMUS_Model!E$1205 -> Additional govt revenues incl. in project costs | D39: =COMMUS_Model!N$1205 -> 395.04833 | E39: =COMMUS_Model!N$1218 -> 279.58465
C40: =COMMUS_Model!E$1206 -> Check: project cashflows by time period | D40: =COMMUS_Model!N$1206 -> 0 | E40: =COMMUS_Model!N$1219 -> 0 | F40: check
C41: =COMMUS_Model!E$1208 -> Government share: excluding payroll & indirect taxes | D41: =COMMUS_Model!N$1208 -> 0.39173219
C42: =COMMUS_Model!E$1209 -> Government share: excluding Gecamines | D42: =COMMUS_Model!N$1209 -> 0.53617647 | E42: =COMMUS_Model!N$1221 -> 0.52386781
C43: =COMMUS_Model!E$1210 -> Government share: including Gecamines | D43: =COMMUS_Model!N$1210 -> 0.74722213 | E43: =COMMUS_Model!N$1222 -> 0.73570681
C45: ="Government results from: " & D8 & " USD mn" -> Government results from: 2025 USD mn
C46: =COMMUS_Model!E$1179 -> 0 | D46: top
C47: =COMMUS_Model!E$1180 -> Total royalty | D47: =COMMUS_Model!N$1180 -> 257.0566 | E47: =COMMUS_Model!G$1180 -> $ mn
C48: =COMMUS_Model!E$1181 -> Turnover tax (Chiffre d'Affaires 0.3PC) | D48: =COMMUS_Model!N$1181 -> 20.206328 | E48: =COMMUS_Model!G$1181 -> $ mn
...

Sheet SummaryC_Flow
A1: =RIGHT(CELL("filename", $A$3), LEN(CELL("filename", $A$3)) - SEARCH("]", CELL("filename", $A$3))) -> SummaryC_Flow
F2: =Track!F$80 -> 0 | G2: Error chks | K2: ='T&E'!K$9 -> 2006 | L2: ='T&E'!L$9 -> 2007 | M2: ='T&E'!M$9 -> 2008 | N2: ='T&E'!N$9 -> 2009 | O2: ='T&E'!O$9 -> 2010 | P2: ='T&E'!P$9 -> 2011 | Q2: ='T&E'!Q$9 -> 2012 | R2: ='T&E'!R$9 -> 2013 | ... AS2: ='T&E'!AS$9 -> 2040
F3: =Track!F$3 -> 0 | G3: Track chgs | K3: Actual | L3: Actual | M3: Actual | N3: Actual | O3: Actual | P3: Actual | Q3: Actual | R3: Actual | S3: Actual | T3: Actual | U3: Actual | V3: Actual | W3: Actual | X3: Actual | Y3: Actual | Z3: Actual | AA3: Actual | AB3: Actual | AC3: Actual | AD3: Forecast | AE3: Forecast | AF3: Forecast | AG3: Forecast | AH3: Forecast | AI3: Forecast | AJ3: Forecast | AK3: Forecast | AL3: Forecast | AM3: Forecast | AN3: Forecast | AO3: Forecast | AP3: Forecast | AQ3: Forecast | AR3: Forecast | AS3: Forecast
F4: Constant | G4: Units | H4: Source / Comments | K4: ='T&E'!K$11 -> 1 | L4: ='T&E'!L$11 -> 2 | M4: ='T&E'!M$11 -> 3 | N4: ='T&E'!N$11 -> 4 | O4: ='T&E'!O$11 -> 5 | P4: ='T&E'!P$11 -> 6 | Q4: ='T&E'!Q$11 -> 7 | R4: ='T&E'!R$11 -> 8 | ... AS4: ='T&E'!AS$11 -> 35
A6: SECTION
B8: Production
E9: =COMMUS_Model!E$79 -> Copper production incl Sens. | F9: =COMMUS_Model!F$79 -> 0 | G9: =COMMUS_Model!G$79 -> KT Cu | H9: =COMMUS_Model!H$79 -> 0 | I9: =COMMUS_Model!I$79 -> 1750.67 | J9: =COMMUS_Model!J$79 -> 0 | K9: =COMMUS_Model!K$79 -> 0 | L9: =COMMUS_Model!L$79 -> 0 | ... AS9: =COMMUS_Model!AS$79 -> 0
E10: =COMMUS_Model!E$126 -> Cobalt production incl Sens. | F10: =COMMUS_Model!F$126 -> 0 | G10: =COMMUS_Model!G$126 -> KT Co | H10: =COMMUS_Model!H$126 -> 0 | I10: =COMMUS_Model!I$126 -> 21.822533 | J10: =COMMUS_Model!J$126 -> 0 | K10: =COMMUS_Model!K$126 -> 0 | L10: =COMMUS_Model!L$126 -> 0 | ... AS10: =COMMUS_Model!AS$126 -> 0
B12: Price
E13: =COMMUS_Model!E$186 -> Copper realized price: SOM_Contract | F13: =COMMUS_Model!F$186 -> SOM_Contract | G13: =COMMUS_Model!G$186 -> $ / tonne | H13: =COMMUS_Model!H$186 -> 0 | I13: =COMMUS_Model!I$186 -> 0 | J13: =COMMUS_Model!J$186 -> 0 | K13: =COMMUS_Model!K$186 -> 6387.4266 | L13: =COMMUS_Model!L$186 -> 6786.1035 | ... AS13: =COMMUS_Model!AS$186 -> 10436.485
E14: =COMMUS_Model!E$323 -> Cobalt realized price: FS | F14: =COMMUS_Model!F$323 -> FS | G14: =COMMUS_Model!G$323 -> $ / tonne | H14: =COMMUS_Model!H$323 -> 0 | I14: =COMMUS_Model!I$323 -> 0 | J14: =COMMUS_Model!J$323 -> 0 | K14: =COMMUS_Model!K$323 -> 0 | L14: =COMMUS_Model!L$323 -> 0 | ... AS14: =COMMUS_Model!AS$323 -> 32763.518
B16: Revenue
E17: =COMMUS_Model!E$375 -> Copper gross revenue | F17: =COMMUS_Model!F$375 -> 0 | G17: =COMMUS_Model!G$375 -> $ mn | H17: =COMMUS_Model!H$375 -> 0 | I17: =COMMUS_Model!I$375 -> 11451.49 | J17: =COMMUS_Model!J$375 -> 0 | K17: =COMMUS_Model!K$375 -> 0 | L17: =COMMUS_Model!L$375 -> 0 | ... AS17: =COMMUS_Model!AS$375 -> 0
E18: =COMMUS_Model!E$380 -> Cobalt gross revenue | F18: =COMMUS_Model!F$380 -> 0 | G18: =COMMUS_Model!G$380 -> $ mn | H18: =COMMUS_Model!H$380 -> 0 | I18: =COMMUS_Model!I$380 -> 605.73785 | J18: =COMMUS_Model!J$380 -> 0 | K18: =COMMUS_Model!K$380 -> 0 | L18: =COMMUS_Model!L$380 -> 0 | ... AS18: =COMMUS_Model!AS$380 -> 0
E19: =COMMUS_Model!E$385 -> Total gross revenue | F19: =COMMUS_Model!F$385 -> 0 | G19: =COMMUS_Model!G$385 -> $ mn | H19: =COMMUS_Model!H$385 -> 0 | I19: =COMMUS_Model!I$385 -> 12057.227 | J19: =COMMUS_Model!J$385 -> 0 | K19: =COMMUS_Model!K$385 -> 0 | L19: =COMMUS_Model!L$385 -> 0 | ... AS19: =COMMUS_Model!AS$385 -> 0
E21: =COMMUS_Model!E$394 -> Selling costs | F21: =COMMUS_Model!F$394 -> 0 | G21: =COMMUS_Model!G$394 -> $ mn | H21: =COMMUS_Model!H$394 -> 0 | I21: =COMMUS_Model!I$394 -> 0 | J21: =COMMUS_Model!J$394 -> 0 | K21: =COMMUS_Model!K$394 -> 0 | L21: =COMMUS_Model!L$394 -> 0 | ... AS21: =COMMUS_Model!AS$394 -> 0
E23: =COMMUS_Model!E$407 -> Copper net revenue | F23: =COMMUS_Model!F$407 -> 0 | G23: =COMMUS_Model!G$407 -> $ mn | H23: =COMMUS_Model!H$407 -> 0 | I23: =COMMUS_Model!I$407 -> 11451.49 | J23: =COMMUS_Model!J$407 -> 0 | K23: =COMMUS_Model!K$407 -> 0 | L23: =COMMUS_Model!L$407 -> 0 | ... AS23: =COMMUS_Model!AS$407 -> 0
E24: =COMMUS_Model!E$408 -> Cobalt net revenue | F24: =COMMUS_Model!F$408 -> 0 | G24: =COMMUS_Model!G$408 -> $ mn | H24: =COMMUS_Model!H$408 -> 0 | I24: =COMMUS_Model!I$408 -> 605.73785 | J24: =COMMUS_Model!J$408 -> 0 | K24: =COMMUS_Model!K$408 -> 0 | L24: =COMMUS_Model!L$408 -> 0 | ... AS24: =COMMUS_Model!AS$408 -> 0
E25: =COMMUS_Model!E$409 -> Total net revenue | F25: =COMMUS_Model!F$409 -> 0 | G25: =COMMUS_Model!G$409 -> $ mn | H25: =COMMUS_Model!H$409 -> 0 | I25: =COMMUS_Model!I$409 -> 12057.227 | J25: =COMMUS_Model!J$409 -> 0 | K25: =COMMUS_Model!K$409 -> 0 | L25: =COMMUS_Model!L$409 -> 0 | ... AS25: =COMMUS_Model!AS$409 -> 0
B27: Costs
E28: =COMMUS_Model!E$520 -> Operating costs, including Sens. | F28: =COMMUS_Model!F$520 -> FS | G28: =COMMUS_Model!G$520 -> $ mn | H28: =COMMUS_Model!H$520 -> 0 | I28: =COMMUS_Model!I$520 -> 6417.4732 | J28: =COMMUS_Model!J$520 -> 0 | K28: =COMMUS_Model!K$520 -> 0 | L28: =COMMUS_Model!L$520 -> 0 | ... AS28: =COMMUS_Model!AS$520 -> 0
E29: =COMMUS_Model!E$566 -> Capital costs, including Sens. | F29: =COMMUS_Model!F$566 -> FS | G29: =COMMUS_Model!G$566 -> $ mn | H29: =COMMUS_Model!H$566 -> 0 | I29: =COMMUS_Model!I$566 -> 831.2452 | J29: =COMMUS_Model!J$566 -> 0 | K29: =COMMUS_Model!K$566 -> 0 | L29: =COMMUS_Model!L$566 -> 0 | ... AS29: =COMMUS_Model!AS$566 -> 0
E30: =COMMUS_Model!E$655 -> Project costs | F30: =COMMUS_Model!F$655 -> 0 | G30: =COMMUS_Model!G$655 -> $ mn | H30: =COMMUS_Model!H$655 -> 0 | I30: =COMMUS_Model!I$655 -> 7248.7184 | J30: =COMMUS_Model!J$655 -> 0 | K30: =COMMUS_Model!K$655 -> 0 | L30: =COMMUS_Model!L$655 -> 0 | ... AS30: =COMMUS_Model!AS$655 -> 0
B32: Project cashflows
E33: =COMMUS_Model!E$661 -> Project cashflow before tax | F33: =COMMUS_Model!F$661 -> 0 | G33: =COMMUS_Model!G$661 -> $ mn | H33: =COMMUS_Model!H$661 -> 0 | I33: =COMMUS_Model!I$661 -> 4808.509 | J33: =COMMUS_Model!J$661 -> 0 | K33: =COMMUS_Model!K$661 -> 0 | L33: =COMMUS_Model!L$661 -> 0 | ... AS33: =COMMUS_Model!AS$661 -> 0
E34: =COMMUS_Model!E$662 -> Project cashflow before tax | F34: =COMMUS_Model!F$662 -> 4808.509
E36: ="Check: " & E34 -> Check: Project cashflow before tax | F36: =SUM(Q36:AV36) -> 0 | G36: check | K36: =IF(ABS(K25 - K30 - K33) > CHK_TOL, 1, 0) -> 0 | L36: =IF(ABS(L25 - L30 - L33) > CHK_TOL, 1, 0) -> 0 | M36: =IF(ABS(M25 - M30 - M33) > CHK_TOL, 1, 0) -> 0 | N36: =IF(ABS(N25 - N30 - N33) > CHK_TOL, 1, 0) -> 0 | O36: =IF(ABS(O25 - O30 - O33) > CHK_TOL, 1, 0) -> 0 | P36: =IF(ABS(P25 - P30 - P33) > CHK_TOL, 1, 0) -> 0 | Q36: =IF(ABS(Q25 - Q30 - Q33) > CHK_TOL, 1, 0) -> 0 | R36: =IF(ABS(R25 - R30 - R33) > CHK_TOL, 1, 0) -> 0 | ... AS36: =IF(ABS(AS25 - AS30 - AS33) > CHK_TOL, 1, 0) -> 0
B38: Government revenues
E39: =COMMUS_Model!E$999 -> Total royalty | F39: =COMMUS_Model!F$999 -> 0 | G39: =COMMUS_Model!G$999 -> $ mn | H39: =COMMUS_Model!H$999 -> 0 | I39: =COMMUS_Model!I$999 -> 457.74229 | J39: =COMMUS_Model!J$999 -> 0 | K39: =COMMUS_Model!K$999 -> 0 | L39: =COMMUS_Model!L$999 -> 0 | ... AS39: =COMMUS_Model!AS$999 -> 0
E40: =COMMUS_Model!E$1000 -> Turnover tax (Chiffre d'Affaires 0.3PC) | F40: =COMMUS_Model!F$1000 -> 0 | G40: =COMMUS_Model!G$1000 -> $ mn | H40: =COMMUS_Model!H$1000 -> 0 | I40: =COMMUS_Model!I$1000 -> 36.171682 | J40: =COMMUS_Model!J$1000 -> 0 | K40: =COMMUS_Model!K$1000 -> 0 | L40: =COMMUS_Model!L$1000 -> 0 | ... AS40: =COMMUS_Model!AS$1000 -> 0
E41: =COMMUS_Model!E$1001 -> CIT payable | F41: =COMMUS_Model!F$1001 -> 0 | G41: =COMMUS_Model!G$1001 -> $ mn | H41: =COMMUS_Model!H$1001 -> 0 | I41: =COMMUS_Model!I$1001 -> 1297.2944 | J41: =COMMUS_Model!J$1001 -> 0 | K41: =COMMUS_Model!K$1001 -> 0 | L41: =COMMUS_Model!L$1001 -> 0 | ... AS41: =COMMUS_Model!AS$1001 -> 0
E42: =COMMUS_Model!E$1002 -> Special Tax On Excess Profits | F42: =COMMUS_Model!F$1002 -> 0 | G42: =COMMUS_Model!G$1002 -> $ mn | H42: =COMMUS_Model!H$1002 -> 0 | I42: =COMMUS_Model!I$1002 -> 0 | J42: =COMMUS_Model!J$1002 -> 0 | K42: =COMMUS_Model!K$1002 -> 0 | L42: =COMMUS_Model!L$1002 -> 0 | ... AS42: =COMMUS_Model!AS$1002 -> 0
E43: =COMMUS_Model!E$1003 -> Signature Bonus (EITI) | F43: =COMMUS_Model!F$1003 -> yes | G43: =COMMUS_Model!G$1003 -> $ mn | H43: =COMMUS_Model!H$1003 -> 0 | I43: =COMMUS_Model!I$1003 -> 42.679182 | J43: =COMMUS_Model!J$1003 -> 0 | K43: =COMMUS_Model!K$1003 -> 0 | L43: =COMMUS_Model!L$1003 -> 0 | ... AS43: =COMMUS_Model!AS$1003 -> 0
E44: =COMMUS_Model!E$1004 -> Payroll taxes (included in costs) | F44: =COMMUS_Model!F$1004 -> 0 | G44: =COMMUS_Model!G$1004 -> $ mn | H44: =COMMUS_Model!H$1004 -> 0 | I44: =COMMUS_Model!I$1004 -> 256.69893 | J44: =COMMUS_Model!J$1004 -> 0 | K44: =COMMUS_Model!K$1004 -> 0 | L44: =COMMUS_Model!L$1004 -> 0 | ... AS44: =COMMUS_Model!AS$1004 -> 0
E45: =COMMUS_Model!E$1005 -> Import duties (included in costs) | F45: =COMMUS_Model!F$1005 -> 0 | G45: =COMMUS_Model!G$1005 -> $ mn | H45: =COMMUS_Model!H$1005 -> 0 | I45: =COMMUS_Model!I$1005 -> 378.04054 | J45: =COMMUS_Model!J$1005 -> 378.04054 | K45: =COMMUS_Model!K$1005 -> 0 | L45: =COMMUS_Model!L$1005 -> 0 | ... AS45: =COMMUS_Model!AS$1005 -> 0
E46: =COMMUS_Model!E$1006 -> Interest withholding tax | F46: =COMMUS_Model!F$1006 -> 0 | G46: =COMMUS_Model!G$1006 -> $ mn | H46: =COMMUS_Model!H$1006 -> 0 | I46: =COMMUS_Model!I$1006 -> 0 | J46: =COMMUS_Model!J$1006 -> 0 | K46: =COMMUS_Model!K$1006 -> 0 | L46: =COMMUS_Model!L$1006 -> 0 | ... AS46: =COMMUS_Model!AS$1006 -> 0
E47: =COMMUS_Model!E$1007 -> Dividend withholding tax | F47: =COMMUS_Model!F$1007 -> 0 | G47: =COMMUS_Model!G$1007 -> $ mn | H47: =COMMUS_Model!H$1007 -> 0 | I47: =COMMUS_Model!I$1007 -> 224.61816 | J47: =COMMUS_Model!J$1007 -> 0 | K47: =COMMUS_Model!K$1007 -> 0 | L47: =COMMUS_Model!L$1007 -> 0 | ... AS47: =COMMUS_Model!AS$1007 -> 0
E48: =COMMUS_Model!E$1008 -> WHT on non-resident services | F48: =COMMUS_Model!F$1008 -> 0 | G48: =COMMUS_Model!G$1008 -> $ mn | H48: =COMMUS_Model!H$1008 -> 0 | I48: =COMMUS_Model!I$1008 -> 72.445296 | J48: =COMMUS_Model!J$1008 -> 0 | K48: =COMMUS_Model!K$1008 -> 0 | L48: =COMMUS_Model!L$1008 -> 0 | ... AS48: =COMMUS_Model!AS$1008 -> 0
E49: =COMMUS_Model!E$1010 -> Government revenues excl Gecamines participation | F49: =COMMUS_Model!F$1010 -> 0 | G49: =COMMUS_Model!G$1010 -> $ mn | H49: =COMMUS_Model!H$1010 -> 0 | I49: =COMMUS_Model!I$1010 -> 2765.6905 | J49: =COMMUS_Model!J$1010 -> 0 | K49: =COMMUS_Model!K$1010 -> 0 | L49: =COMMUS_Model!L$1010 -> 0 | ... AS49: =COMMUS_Model!AS$1010 -> 0
E50: =COMMUS_Model!E$1011 -> Gecamines share of cashflows after repaying loan | F50: =COMMUS_Model!F$1011 -> 0 | G50: =COMMUS_Model!G$1011 -> $ mn | H50: =COMMUS_Model!H$1011 -> 0 | I50: =COMMUS_Model!I$1011 -> 921.83851 | J50: =COMMUS_Model!J$1011 -> 0 | K50: =COMMUS_Model!K$1011 -> 0 | L50: =COMMUS_Model!L$1011 -> 0 | ... AS50: =COMMUS_Model!AS$1011 -> 0
...

Sheet Charts
A1: =RIGHT(CELL("filename", $A$3), LEN(CELL("filename", $A$3)) - SEARCH("]", CELL("filename", $A$3))) -> Charts
F2: =Track!F$80 -> 0 | G2: Error chks | K2: ='T&E'!K$9 -> 2006 | L2: ='T&E'!L$9 -> 2007 | M2: ='T&E'!M$9 -> 2008 | N2: ='T&E'!N$9 -> 2009 | O2: ='T&E'!O$9 -> 2010 | P2: ='T&E'!P$9 -> 2011 | Q2: ='T&E'!Q$9 -> 2012 | R2: ='T&E'!R$9 -> 2013 | ... AS2: ='T&E'!AS$9 -> 2040
F3: =Track!F$3 -> 0 | G3: Track chgs | K3: Actual | L3: Actual | M3: Actual | N3: Actual | O3: Actual | P3: Actual | Q3: Actual | R3: Actual | S3: Actual | T3: Actual | U3: Actual | V3: Actual | W3: Actual | X3: Actual | Y3: Actual | Z3: Actual | AA3: Actual | AB3: Actual | AC3: Actual | AD3: Forecast | AE3: Forecast | AF3: Forecast | AG3: Forecast | AH3: Forecast | AI3: Forecast | AJ3: Forecast | AK3: Forecast | AL3: Forecast | AM3: Forecast | AN3: Forecast | AO3: Forecast | AP3: Forecast | AQ3: Forecast | AR3: Forecast | AS3: Forecast
F4: Constant | G4: Units | H4: Source / Comments | K4: ='T&E'!K$11 -> 1 | L4: ='T&E'!L$11 -> 2 | M4: ='T&E'!M$11 -> 3 | N4: ='T&E'!N$11 -> 4 | O4: ='T&E'!O$11 -> 5 | P4: ='T&E'!P$11 -> 6 | Q4: ='T&E'!Q$11 -> 7 | R4: ='T&E'!R$11 -> 8 | ... AS4: ='T&E'!AS$11 -> 35
A6: PRODUCTION
E8: COPPER AND COBALT PRODUCTION | F8: Chart title
E9: KT Cu and Co | F9: X-Axis
F10: Y-Axis
E12: ='T&E'!E$9 -> Model calendar year | F12: ='T&E'!F$9 -> 0 | G12: ='T&E'!G$9 -> year | H12: ='T&E'!H$9 -> 0 | I12: ='T&E'!I$9 -> 0 | J12: ='T&E'!J$9 -> 0 | K12: ='T&E'!K$9 -> 2006 | L12: ='T&E'!L$9 -> 2007 | ... AS12: ='T&E'!AS$9 -> 2040
E13: =COMMUS_Model!E$79 -> Copper production incl Sens. | F13: =COMMUS_Model!F$79 -> 0 | G13: =COMMUS_Model!G$79 -> KT Cu | H13: =COMMUS_Model!H$79 -> 0 | I13: =COMMUS_Model!I$79 -> 1750.67 | J13: =COMMUS_Model!J$79 -> 0 | K13: =COMMUS_Model!K$79 -> 0 | L13: =COMMUS_Model!L$79 -> 0 | ... AS13: =COMMUS_Model!AS$79 -> 0
E14: =COMMUS_Model!E$126 -> Cobalt production incl Sens. | F14: =COMMUS_Model!F$126 -> 0 | G14: =COMMUS_Model!G$126 -> KT Co | H14: =COMMUS_Model!H$126 -> 0 | I14: =COMMUS_Model!I$126 -> 21.822533 | J14: =COMMUS_Model!J$126 -> 0 | K14: =COMMUS_Model!K$126 -> 0 | L14: =COMMUS_Model!L$126 -> 0 | ... AS14: =COMMUS_Model!AS$126 -> 0
A46: COPPER AND COBALT PRICES
E48: =A46 -> COPPER AND COBALT PRICES | F48: Chart title
F49: X-Axis
E50: USD / tonne Copper | F50: Y-Axis
E51: USD / tonne Cobalt | F51: second Y-Axis
E53: ='T&E'!E$9 -> Model calendar year | F53: ='T&E'!F$9 -> 0 | G53: ='T&E'!G$9 -> year | H53: ='T&E'!H$9 -> 0 | I53: ='T&E'!I$9 -> 0 | J53: ='T&E'!J$9 -> 0 | K53: ='T&E'!K$9 -> 2006 | L53: ='T&E'!L$9 -> 2007 | ... AS53: ='T&E'!AS$9 -> 2040
E54: =COMMUS_Model!E$186 -> Copper realized price: SOM_Contract | F54: =COMMUS_Model!F$186 -> SOM_Contract | G54: =COMMUS_Model!G$186 -> $ / tonne | H54: =COMMUS_Model!H$186 -> 0 | I54: =COMMUS_Model!I$186 -> 0 | J54: =COMMUS_Model!J$186 -> 0 | K54: =COMMUS_Model!K$186 -> 6387.4266 | L54: =COMMUS_Model!L$186 -> 6786.1035 | ... AS54: =COMMUS_Model!AS$186 -> 10436.485
E55: =COMMUS_Model!E$323 -> Cobalt realized price: FS | F55: =COMMUS_Model!F$323 -> FS | G55: =COMMUS_Model!G$323 -> $ / tonne | H55: =COMMUS_Model!H$323 -> 0 | I55: =COMMUS_Model!I$323 -> 0 | J55: =COMMUS_Model!J$323 -> 0 | K55: =COMMUS_Model!K$323 -> 0 | L55: =COMMUS_Model!L$323 -> 0 | ... AS55: =COMMUS_Model!AS$323 -> 32763.518
A85: PROJECT CASHFLOWS
E87: =A85 -> PROJECT CASHFLOWS | F87: Chart title
E88: =G92 -> $ mn | F88: X-Axis
F89: Y-Axis
E91: ='T&E'!E$9 -> Model calendar year | F91: ='T&E'!F$9 -> 0 | G91: ='T&E'!G$9 -> year | H91: ='T&E'!H$9 -> 0 | I91: ='T&E'!I$9 -> 0 | J91: ='T&E'!J$9 -> 0 | K91: ='T&E'!K$9 -> 2006 | L91: ='T&E'!L$9 -> 2007 | ... AS91: ='T&E'!AS$9 -> 2040
E92: =COMMUS_Model!E$375 -> Copper gross revenue | F92: =COMMUS_Model!F$375 -> 0 | G92: =COMMUS_Model!G$375 -> $ mn | H92: =COMMUS_Model!H$375 -> 0 | I92: =COMMUS_Model!I$375 -> 11451.49 | J92: =COMMUS_Model!J$375 -> 0 | K92: =COMMUS_Model!K$375 -> 0 | L92: =COMMUS_Model!L$375 -> 0 | ... AS92: =COMMUS_Model!AS$375 -> 0
E93: =COMMUS_Model!E$380 -> Cobalt gross revenue | F93: =COMMUS_Model!F$380 -> 0 | G93: =COMMUS_Model!G$380 -> $ mn | H93: =COMMUS_Model!H$380 -> 0 | I93: =COMMUS_Model!I$380 -> 605.73785 | J93: =COMMUS_Model!J$380 -> 0 | K93: =COMMUS_Model!K$380 -> 0 | L93: =COMMUS_Model!L$380 -> 0 | ... AS93: =COMMUS_Model!AS$380 -> 0
E95: =COMMUS_Model!E$520 -> Operating costs, including Sens. | F95: =COMMUS_Model!F$520 -> FS | G95: =COMMUS_Model!G$520 -> $ mn | H95: =COMMUS_Model!H$520 -> 0 | I95: =COMMUS_Model!I$520 -> 6417.4732 | J95: =COMMUS_Model!J$520 -> 0 | K95: =COMMUS_Model!K$520 -> 0 | L95: =COMMUS_Model!L$520 -> 0 | ... AS95: =COMMUS_Model!AS$520 -> 0
E96: =COMMUS_Model!E$566 -> Capital costs, including Sens. | F96: =COMMUS_Model!F$566 -> FS | G96: =COMMUS_Model!G$566 -> $ mn | H96: =COMMUS_Model!H$566 -> 0 | I96: =COMMUS_Model!I$566 -> 831.2452 | J96: =COMMUS_Model!J$566 -> 0 | K96: =COMMUS_Model!K$566 -> 0 | L96: =COMMUS_Model!L$566 -> 0 | ... AS96: =COMMUS_Model!AS$566 -> 0
E98: =COMMUS_Model!E$661 -> Project cashflow before tax | F98: =COMMUS_Model!F$661 -> 0 | G98: =COMMUS_Model!G$661 -> $ mn | H98: =COMMUS_Model!H$661 -> 0 | I98: =COMMUS_Model!I$661 -> 4808.509 | J98: =COMMUS_Model!J$661 -> 0 | K98: =COMMUS_Model!K$661 -> 0 | L98: =COMMUS_Model!L$661 -> 0 | ... AS98: =COMMUS_Model!AS$661 -> 0
E100: =E95 -> Operating costs, including Sens. | G100: =G95 -> $ mn | J100: =SUM(L100:AV100) -> -6417.4732 | L100: =L95 * -1 -> 0 | M100: =M95 * -1 -> 0 | N100: =N95 * -1 -> 0 | O100: =O95 * -1 -> 0 | P100: =P95 * -1 -> 0 | Q100: =Q95 * -1 -> 0 | R100: =R95 * -1 -> 0 | S100: =S95 * -1 -> 0 | ... AS100: =AS95 * -1 -> 0
E101: =E96 -> Capital costs, including Sens. | G101: =G96 -> $ mn | J101: =SUM(L101:AV101) -> -831.2452 | L101: =L96 * -1 -> 0 | M101: =M96 * -1 -> 0 | N101: =N96 * -1 -> 0 | O101: =O96 * -1 -> 0 | P101: =P96 * -1 -> 0 | Q101: =Q96 * -1 -> 0 | R101: =R96 * -1 -> 0 | S101: =S96 * -1 -> 0 | ... AS101: =AS96 * -1 -> 0
A131: GOVERNMENT REVENUES
E133: =A131 -> GOVERNMENT REVENUES | F133: Chart title
E134: =G138 -> $ mn | F134: X-Axis
F135: Y-Axis
E137: ='T&E'!E$9 -> Model calendar year | F137: ='T&E'!F$9 -> 0 | G137: ='T&E'!G$9 -> year | H137: ='T&E'!H$9 -> 0 | I137: ='T&E'!I$9 -> 0 | J137: ='T&E'!J$9 -> 0 | K137: ='T&E'!K$9 -> 2006 | L137: ='T&E'!L$9 -> 2007 | ... AS137: ='T&E'!AS$9 -> 2040
E138: =COMMUS_Model!E$375 -> Copper gross revenue | F138: =COMMUS_Model!F$375 -> 0 | G138: =COMMUS_Model!G$375 -> $ mn | H138: =COMMUS_Model!H$375 -> 0 | I138: =COMMUS_Model!I$375 -> 11451.49 | J138: =COMMUS_Model!J$375 -> 0 | K138: =COMMUS_Model!K$375 -> 0 | L138: =COMMUS_Model!L$375 -> 0 | ... AS138: =COMMUS_Model!AS$375 -> 0
E139: =COMMUS_Model!E$380 -> Cobalt gross revenue | F139: =COMMUS_Model!F$380 -> 0 | G139: =COMMUS_Model!G$380 -> $ mn | H139: =COMMUS_Model!H$380 -> 0 | I139: =COMMUS_Model!I$380 -> 605.73785 | J139: =COMMUS_Model!J$380 -> 0 | K139: =COMMUS_Model!K$380 -> 0 | L139: =COMMUS_Model!L$380 -> 0 | ... AS139: =COMMUS_Model!AS$380 -> 0
E142: =COMMUS_Model!E$999 -> Total royalty | F142: =COMMUS_Model!F$999 -> 0 | G142: =COMMUS_Model!G$999 -> $ mn | H142: =COMMUS_Model!H$999 -> 0 | I142: =COMMUS_Model!I$999 -> 457.74229 | J142: =COMMUS_Model!J$999 -> 0 | K142: =COMMUS_Model!K$999 -> 0 | L142: =COMMUS_Model!L$999 -> 0 | ... AS142: =COMMUS_Model!AS$999 -> 0
E143: =COMMUS_Model!E$1001 -> CIT payable | F143: =COMMUS_Model!F$1001 -> 0 | G143: =COMMUS_Model!G$1001 -> $ mn | H143: =COMMUS_Model!H$1001 -> 0 | I143: =COMMUS_Model!I$1001 -> 1297.2944 | J143: =COMMUS_Model!J$1001 -> 0 | K143: =COMMUS_Model!K$1001 -> 0 | L143: =COMMUS_Model!L$1001 -> 0 | ... AS143: =COMMUS_Model!AS$1001 -> 0
...

Sheet OnePager
B2: COMMUS MARKET VALUE | T2: KEYS
C3: Issue | E3: Materiality | L3: Documentation | T3: Materiality Level
E4: Level | F4: Issue Definition | G4: Value Type | H4: Value Unit | I4: VaR | J4: Value Scope | L4: Source | M4: Observation | O4: Floor | P4: Mid | Q4: Ceiling | T4: L | U4: Low
B5: V1 | C5: Realised Price Risk: Co | E5: H | F5: Variable Payable Co Rates | G5: Turnover | H5: USD mn | I5: =MAX(O5:Q5)-MIN(O5:Q5) -> 175.58696 | J5: Rem_LOM | L5: I | M5: Min Mining File 2018-24 | O5: =Scenarios!H$68 -> 277.77248 | P5: =Scenarios!I$68 -> 327.94018 | Q5: =Scenarios!J$68 -> 453.35943 | T5: M | U5: Medium
B6: V2 | C6: Realised Price Risk: Cu | E6: M | F6: Transport charges included | G6: Turnover | H6: USD mn | I6: =MAX(O6:Q6)-MIN(O6:Q6) -> 241.60925 | J6: Rem_LOM | L6: I | M6: Somidez 2020 sales contract | O6: =Scenarios!H$73 -> 6649.1116 | P6: =Scenarios!I$73 -> 6407.5024 | Q6: =Scenarios!J$73 -> 6649.1116 | T6: H | U6: High
B7: V3 | C7: Marketing Fee Risk | E7: M | F7: 2% fee on 3rd party sales | G7: Turnover | H7: USD mn | I7: =MAX(O7:Q7)-MIN(O7:Q7) -> 72.703881 | J7: Rem_LOM | L7: I | M7: Somidez 2020 sales contract | O7: =Scenarios!H$78 -> 6691.8202 | P7: =Scenarios!I$78 -> 6735.4425 | Q7: =Scenarios!J$78 -> 6764.5241 | T7: U | U7: Unquantified
B8: V4 | C8: Cu Vol Underreporting Risk | E8: H | F8: +/- 5% reported Cu volume | G8: Turnover | H8: USD mn | I8: =MAX(O8:Q8)-MIN(O8:Q8) -> 187.9676 | J8: Rem_LOM | L8: S | M8: 2021 Min Mining truck stats | O8: =Scenarios!H$84 -> 6313.5186 | P8: =Scenarios!I$84 -> 6407.5024 | Q8: =Scenarios!J$84 -> 6501.4862 | T8: Documentation Source
B9: V5 | C9: Co Vol Underreporting Risk | E9: H | F9: +/- 5% reported Co volume | G9: Turnover | H9: USD mn | I9: =MAX(O9:Q9)-MIN(O9:Q9) -> 32.794018 | J9: Rem_LOM | L9: S | M9: 2021 Min Mining truck stats | O9: =Scenarios!H$90 -> 311.54317 | P9: =Scenarios!I$90 -> 327.94018 | Q9: =Scenarios!J$90 -> 344.33719
B10: V6 | C10: Co Grade Underreporting Risk | E10: H | F10: CoHyd Grade range 30 - 35% | G10: Turnover | H10: USD mn | I10: =MAX(O10:Q10)-MIN(O10:Q10) -> 54.656697 | J10: Rem_LOM | L10: S | M10: 500 data points Min Min 2018-24 | O10: =Scenarios!H$96 -> 300.61183 | P10: =Scenarios!I$96 -> 327.94018 | Q10: =Scenarios!J$96 -> 355.26853 | T10: D | U10: Direct
T11: I | U11: Indirect
B12: COMMUS PROJECT COSTS | T12: S | U12: Scenario
C13: Issue | E13: Materiality | L13: Documentation
E14: Level | F14: Issue Definition | G14: Value Type | H14: Value Unit | I14: VaR | J14: Value Scope | L14: Source | M14: Observation | O14: Floor | P14: Mid | Q14: Ceiling
B15: C1 | C15: Deductibility of debt interest | E15: H | F15: Compare vs LIBOR + 4% | G15: Fiscal | H15: USD mn | I15: =MAX(O15:Q15)-MIN(O15:Q15) -> 1.2151333 | J15: LOM | L15: D | M15: Not material | O15: =ABS(Scenarios!H$115) -> 1.2151333 | P15: =Scenarios!I$115 -> 0 | Q15: =Scenarios!J$115 -> 0
B16: C2 | C16: Opex cost reporting risk | E16: M | F16: What if 5% opex increase | G16: Fiscal | H16: USD mn | I16: =MAX(O16:Q16)-MIN(O16:Q16) -> 80.745436 | J16: LOM | L16: D | M16: Covers period 2023 forward (FS) | O16: =Scenarios!H$108 -> 2043.6175 | P16: =Scenarios!I$108 -> 2011.3194 | Q16: =Scenarios!J$108 -> 1962.8721
B17: Cx | C17: [Cost benchmarking] | E17: U | F17: Insufficient data to evaluate
B19: COMMUS TAX RULES
C20: Issue | E20: Materiality | L20: Documentation
E21: Level | F21: Issue Definition | G21: Value Type | H21: Value Unit | I21: VaR | J21: Value Scope | L21: Source | M21: Observation | O21: Floor | P21: Mid | Q21: Ceiling
B22: T1 | C22: Royalty model to actuals | E22: L | F22: Shortfall vs model at 70% payables | G22: Fiscal | H22: USD mn | I22: =MAX(O22:Q22)-MIN(O22:Q22) -> 34.489025 | J22: 2018-2022 | L22: D | M22: Model base scenario vs EITI | O22: 0 | P22: =ABS(EITI_Rev!F$42) -> 34.489025 | Q22: 0
B23: T2 | C23: Subnational model to actuals | E23: L | F23: Turnover tax and sub-national royalties | G23: Fiscal | H23: USD mn | I23: =MAX(O23:Q23)-MIN(O23:Q23) -> 30.015245 | J23: 2018-2022 | L23: D | M23: Assumes Treasury actuals right | O23: 0 | P23: =ABS(EITI_Rev!F$64) -> 30.015245 | Q23: 0
B24: T3 | C24: Corporate Income Tax | E24: U | F24: Model base scenario vs EITI actuals | G24: Fiscal | H24: USD mn | I24: =MAX(O24:Q24)-MIN(O24:Q24) -> 71.016824 | J24: 2018-2022 | L24: S | M24: No annual financials available | O24: 0 | P24: =ABS(EITI_Rev!F$75) -> 71.016824 | Q24: 0
B25: T4 | C25: Excess Profits Tax | E25: M | F25: Insufficient data to evaluate
B26: T5 | C26: Potential Tax Treaty Impacts | E26: M | F26: No SWT and reduced DWT if South Africa | G26: Fiscal | H26: USD mn | I26: =MAX(O26:Q26)-MIN(O26:Q26) -> 194.24595 | J26: Rem_LOM | L26: I | M26: Corporate network unknown | O26: 0 | P26: =COMMUS_Model!F$993 -> 194.24595 | Q26: 0
B27: T6 | C27: License Renewal Equity | E27: M | F27: Extra 5% from license renewal 2018 | G27: Fiscal | H27: USD mn | I27: =MAX(O27:Q27)-MIN(O27:Q27) -> 78.709093 | J27: Rem_LOM | L27: D | M27: Additional transfer unconfirmed | P27: =Scenarios!I$119 -> 1964.9084 | Q27: =Scenarios!J$119 -> 2043.6175
B28: T7 | C28: State asset transfers | E28: M | F28: No transactions identified

Sheet Scenarios
C2: =Track!F$80 -> 0 | D2: Error chks
C3: =Track!F$3 -> 0 | D3: =Track!G$3 -> Track chgs
C5: into model | D5: units | H5: SCENARIO PARAMETERS
H6: =G6 + 1 -> 1 | I6: =H6 + 1 -> 2 | J6: =I6 + 1 -> 3 | K6: =J6 + 1 -> 4 | L6: =K6 + 1 -> 5 | M6: =L6 + 1 -> 6 | N6: =M6 + 1 -> 7 | O6: =N6 + 1 -> 8 | ... S6: =R6 + 1 -> 12
B7: =Dashboard!C$7 -> Scenario | C7: =Dashboard!D$7 -> Base | D7: =Dashboard!E$7 -> selected | H7: Base | I7: Actual Realized | J7: JW | K7: TB
C8: 2
B9: TOP ROW OF PARAMETERS | E9: Sens variable
C10: INTO MODEL
B11: Copper forecast price | C11: {=IF( E11 <> "sens", E11, INDEX(G11:T11, ,$C$8))} -> IMF_WEO | D11: option selected | E11: Sens | H11: IMF_WEO | I11: IMF_WEO | J11: ConstReal | K11: IMF_WEO
B12: Cobalt forecast price | C12: {=IF( E12 <> "sens", E12, INDEX(G12:T12, ,$C$8))} -> IMF_WEO | D12: option selected | E12: Sens | H12: IMF_WEO | I12: IMF_WEO | J12: IMF_WEO | K12: IMF_WEO
B13: Cu realized price method | C13: {=IF( E13 <> "sens", E13, INDEX(G13:T13, ,$C$8))} -> SOM_Contract | D13: selected | E13: Sens | H13: SOM_Contract | I13: %LME(actual) | J13: SOM_Contract | K13: %LME(actual)
B14: Copper: Realised Price vs LME for "LMEAssumed" | C14: {=IF( E14 <> "sens", E14, INDEX(G14:T14, ,$C$8))} -> 0.95 | D14: % | E14: Sens | H14: 0.95 | I14: 0.95 | J14: 0.95 | K14: 0.95
B15: Co realized price method | C15: {=IF( E15 <> "sens", E15, INDEX(G15:T15, ,$C$8))} -> SOM_Contract | D15: selected | E15: Sens | H15: SOM_Contract | I15: %LME(actual) | J15: %LME(assumed) | K15: %LME(actual)
B16: Apply Cu transport / quality discount (1 = yes) | C16: {=IF( E16 <> "sens", E16, INDEX(G16:T16, ,$C$8))} -> 1 | D16: flag | E16: Sens | H16: 1 | I16: 1 | J16: 1 | K16: 1
B17: Third Party Marketing Charge: Cu & Co | C17: {=IF( E17 <> "sens", E17, INDEX(G17:T17, ,$C$8))} -> 0.008 | D17: % | E17: Sens | H17: 0.008 | I17: 0.008 | J17: 0.008 | K17: 0.008
B18: Cobalt: Realised Price vs LME for "LMEAssumed" | C18: {=IF( E18 <> "sens", E18, INDEX(G18:T18, ,$C$8))} -> 0.9 | D18: % | E18: Sens | H18: 0.9 | I18: 0.9 | J18: 0.9 | K18: 0.9
B19: Apply selling costs FS23 | C19: {=IF( E19 <> "sens", E19, INDEX(G19:T19, ,$C$8))} -> no | D19: selected | E19: Sens | H19: no | I19: no | J19: no | K19: Yes
B20: Cobalt Payable Rate applied in model | C20: {=IF( E20 <> "sens", E20, INDEX(G20:T20, ,$C$8))} -> 0.7 | D20: % | E20: Sens | H20: 0.7 | I20: 0.7 | J20: 0.7 | K20: 0.7
B21: Som contract: placeholder assumption of third party sales: Cu | C21: {=IF( E21 <> "sens", E21, INDEX(G21:T21, ,$C$8))} -> 0.5 | D21: % | E21: Sens | H21: 0.5 | I21: 0.5 | J21: 0.5 | K21: 0.5
B22: Som contract: placeholder assumption of third party sales: Co | C22: {=IF( E22 <> "sens", E22, INDEX(G22:T22, ,$C$8))} -> 0.9 | D22: % | E22: Sens | H22: 0.9 | I22: 0.5 | J22: 0.9 | K22: 0.9
B23: Copper production sensitivity (forecast period) | C23: {=IF( E23 <> "sens", E23, INDEX(G23:T23, ,$C$8))} -> 1 | D23: % | E23: Sens | H23: 1 | I23: 1 | J23: 1 | K23: 1
B24: Cobalt production sensitivity (forecast period) | C24: {=IF( E24 <> "sens", E24, INDEX(G24:T24, ,$C$8))} -> 1 | D24: % | E24: Sens | H24: 1 | I24: 1 | J24: 1 | K24: 1
B25: Operating cost Sensitivity (forecast period) | C25: {=IF( E25 <> "sens", E25, INDEX(G25:T25, ,$C$8))} -> 1 | D25: % | E25: Sens | H25: 1 | I25: 1 | J25: 1 | K25: 1
B26: Capital cost sensitivity (forecast period) | C26: {=IF( E26 <> "sens", E26, INDEX(G26:T26, ,$C$8))} -> 1 | D26: % | E26: Sens | H26: 1 | I26: 1 | J26: 1 | K26: 1
B27: Interest deductible for CIT | C27: {=IF( E27 <> "sens", E27, INDEX(G27:T27, ,$C$8))} -> 1 | D27: % | E27: Sens | H27: 1 | I27: 1 | J27: 1 | K27: 1
B28: Production case: FS or original | C28: {=IF( E28 <> "sens", E28, INDEX(G28:T28, ,$C$8))} -> FS | D28: selected | E28: Sens | H28: FS | I28: FS | J28: FS | K28: FS
B29: Operating costs: FS or original | C29: {=IF( E29 <> "sens", E29, INDEX(G29:T29, ,$C$8))} -> FS | D29: selected | E29: Sens | H29: FS | I29: FS | J29: FS | K29: FS
B30: Capital costs: FS or original | C30: {=IF( E30 <> "sens", E30, INDEX(G30:T30, ,$C$8))} -> FS | D30: selected | E30: Sens | H30: FS | I30: FS | J30: FS | K30: FS
B31: Depreciation: calculated or per FS | C31: {=IF( E31 <> "sens", E31, INDEX(G31:T31, ,$C$8))} -> Calculated | D31: selected | E31: Sens | H31: Calculated | I31: Calculated | J31: Calculated | K31: Calculated
B32: Straight line depreciation years (AVERAGE) | C32: {=IF( E32 <> "sens", E32, INDEX(G32:T32, ,$C$8))} -> 7 | D32: years | E32: Sens | H32: 7 | I32: 7 | J32: 7 | K32: 7
B33: Management fees added to operating costs | C33: {=IF( E33 <> "sens", E33, INDEX(G33:T33, ,$C$8))} -> 0 | D33: % | E33: Sens | H33: 0 | I33: 0.02 | J33: 0.02 | K33: 0
B34: Excess Profits Tax applied (1 = yes) | C34: {=IF( E34 <> "sens", E34, INDEX(G34:T34, ,$C$8))} -> 1 | D34: flag | E34: Sens | H34: 1 | I34: 1 | J34: 1 | K34: 1
B35: EPT: Apply inflation to FS prices and Operating Surplus | C35: {=IF( E35 <> "sens", E35, INDEX(G35:T35, ,$C$8))} -> no | D35: selected | E35: Sens | H35: no | I35: no | J35: no | K35: no
B36: FS or alternative debt interest rates | C36: {=IF( E36 <> "sens", E36, INDEX(G36:T36, ,$C$8))} -> FS | D36: selected | E36: Sens | H36: FS | I36: FS | J36: FS | K36: FS
B37: Include Import Duties in forecast (1 = yes) | C37: {=IF( E37 <> "sens", E37, INDEX(G37:T37, ,$C$8))} -> 1 | D37: flag | E37: Sens | H37: 1 | I37: 1 | J37: 1 | K37: 1
B38: Interest withholding tax | C38: {=IF( E38 <> "sens", E38, INDEX(G38:T38, ,$C$8))} -> 0.1 | D38: % | E38: Sens | H38: 0.1 | I38: 0.1 | J38: 0.1 | K38: 0.1
B39: Dividend withholding tax | C39: {=IF( E39 <> "sens", E39, INDEX(G39:T39, ,$C$8))} -> 0.1 | D39: % | E39: Sens | H39: 0.1 | I39: 0.1 | J39: 0.1 | K39: 0.1
B40: WHT rate non-resident services | C40: {=IF( E40 <> "sens", E40, INDEX(G40:T40, ,$C$8))} -> 0.14 | D40: % | E40: Sens | H40: 0.14 | I40: 0.14 | J40: 0.14 | K40: 0.14
B41: Include Payroll taxes in forecast (1 = yes) | C41: {=IF( E41 <> "sens", E41, INDEX(G41:T41, ,$C$8))} -> 1 | D41: flag | E41: Sens | H41: 1 | I41: 1 | J41: 1 | K41: 1
B42: Gecamines share of project post 2024 | C42: {=IF( E42 <> "sens", E42, INDEX(G42:T42, ,$C$8))} -> 0.33 | D42: % | E42: Sens | H42: 0.33 | I42: 0.33 | J42: 0.33 | K42: 0.33
...

Sheet COMMUS_Model
A1: =RIGHT(CELL("filename", $A$3), LEN(CELL("filename", $A$3)) - SEARCH("]", CELL("filename", $A$3))) -> COMMUS_Model
F2: =Track!F$80 -> 0 | G2: Error chks | K2: ='T&E'!K9 -> 2006 | L2: ='T&E'!L9 -> 2007 | M2: ='T&E'!M9 -> 2008 | N2: ='T&E'!N9 -> 2009 | O2: ='T&E'!O9 -> 2010 | P2: ='T&E'!P9 -> 2011 | Q2: ='T&E'!Q9 -> 2012 | R2: ='T&E'!R9 -> 2013 | ... AS2: ='T&E'!AS9 -> 2040
F3: =Track!F3 -> 0 | G3: Track chgs | K3: Actual | L3: Actual | M3: Actual | N3: Actual | O3: Actual | P3: Actual | Q3: Actual | R3: Actual | S3: Actual | T3: Actual | U3: Actual | V3: Actual | W3: Actual | X3: Actual | Y3: Actual | Z3: Actual | AA3: Actual | AB3: Actual | AC3: Actual | AD3: Forecast | AE3: Forecast | AF3: Forecast | AG3: Forecast | AH3: Forecast | AI3: Forecast | AJ3: Forecast | AK3: Forecast | AL3: Forecast | AM3: Forecast | AN3: Forecast | AO3: Forecast | AP3: Forecast | AQ3: Forecast | AR3: Forecast | AS3: Forecast
F4: Constant | G4: Units | H4: Source / Comments | K4: ='T&E'!K11 -> 1 | L4: ='T&E'!L11 -> 2 | M4: ='T&E'!M11 -> 3 | N4: ='T&E'!N11 -> 4 | O4: ='T&E'!O11 -> 5 | P4: ='T&E'!P11 -> 6 | Q4: ='T&E'!Q11 -> 7 | R4: ='T&E'!R11 -> 8 | ... AS4: ='T&E'!AS11 -> 35
A6: PRODUCTION
B8: Production
C10: Total copper
E11: =Inputs_TS!E$100 -> Total historic copper production (Zijin annual reports) | G11: =Inputs_TS!G$100 -> tonnes | H11: =Inputs_TS!H$100 -> IX | J11: =Inputs_TS!J$100 -> 0 | K11: =Inputs_TS!K$100 -> 0 | L11: =Inputs_TS!L$100 -> 0 | M11: =Inputs_TS!M$100 -> 0 | N11: =Inputs_TS!N$100 -> 0 | O11: =Inputs_TS!O$100 -> 0 | P11: =Inputs_TS!P$100 -> 0 | Q11: =Inputs_TS!Q$100 -> 0 | ... AS11: =Inputs_TS!AS$100 -> 0
E12: Last year actual | F12: =SUM(K12:AS12) -> 2024 | G12: year | K12: =AND(K11 > 0, L11 = 0) * K2 -> 0 | L12: =AND(L11 > 0, M11 = 0) * L2 -> 0 | M12: =AND(M11 > 0, N11 = 0) * M2 -> 0 | N12: =AND(N11 > 0, O11 = 0) * N2 -> 0 | O12: =AND(O11 > 0, P11 = 0) * O2 -> 0 | P12: =AND(P11 > 0, Q11 = 0) * P2 -> 0 | Q12: =AND(Q11 > 0, R11 = 0) * Q2 -> 0 | R12: =AND(R11 > 0, S11 = 0) * R2 -> 0 | ... AS12: =AND(AS11 > 0, AT11 = 0) * AS2 -> 0
E14: =Inputs_TS!E$57 -> Copper reserves | F14: =Inputs_TS!F$57 -> 0.816218 | G14: =Inputs_TS!G$57 -> MT | H14: =Inputs_TS!H$57 -> IX
E15: =Inputs_TS!E$67 -> Planned copper production average | F15: =Inputs_TS!F$67 -> 127000
E16: =Inputs_TS!E$73 -> Life of Mine (as of end 2024) | F16: =Inputs_TS!F$73 -> 9 | G16: =Inputs_TS!G$73 -> years | H16: =Inputs_TS!H$73 -> IX
E18: 2025 onwards flag | G18: flag | K18: =IF(AND( K2 > $F12, K2 <= $F12 + $F16), 1, ) -> 0 | L18: =IF(AND( L2 > $F12, L2 <= $F12 + $F16), 1, ) -> 0 | M18: =IF(AND( M2 > $F12, M2 <= $F12 + $F16), 1, ) -> 0 | N18: =IF(AND( N2 > $F12, N2 <= $F12 + $F16), 1, ) -> 0 | O18: =IF(AND( O2 > $F12, O2 <= $F12 + $F16), 1, ) -> 0 | P18: =IF(AND( P2 > $F12, P2 <= $F12 + $F16), 1, ) -> 0 | Q18: =IF(AND( Q2 > $F12, Q2 <= $F12 + $F16), 1, ) -> 0 | R18: =IF(AND( R2 > $F12, R2 <= $F12 + $F16), 1, ) -> 0 | ... AS18: =IF(AND( AS2 > $F12, AS2 <= $F12 + $F16), 1, ) -> 0
E19: 2025 onwards copper production | G19: tonnes | K19: =IF(K18 =1, $F15,) -> 0 | L19: =IF(L18 =1, $F15,) -> 0 | M19: =IF(M18 =1, $F15,) -> 0 | N19: =IF(N18 =1, $F15,) -> 0 | O19: =IF(O18 =1, $F15,) -> 0 | P19: =IF(P18 =1, $F15,) -> 0 | Q19: =IF(Q18 =1, $F15,) -> 0 | R19: =IF(R18 =1, $F15,) -> 0 | ... AS19: =IF(AS18 =1, $F15,) -> 0
E21: =Inputs_TS!E$100 -> Total historic copper production (Zijin annual reports) | G21: =Inputs_TS!G$100 -> tonnes | H21: =Inputs_TS!H$100 -> IX | J21: =Inputs_TS!J$100 -> 0 | K21: =Inputs_TS!K$100 -> 0 | L21: =Inputs_TS!L$100 -> 0 | M21: =Inputs_TS!M$100 -> 0 | N21: =Inputs_TS!N$100 -> 0 | O21: =Inputs_TS!O$100 -> 0 | P21: =Inputs_TS!P$100 -> 0 | Q21: =Inputs_TS!Q$100 -> 0 | ... AS21: =Inputs_TS!AS$100 -> 0
E22: =E$19 -> 2025 onwards copper production | G22: =G$19 -> tonnes | J22: =J$19 -> 0 | K22: =K$19 -> 0 | L22: =L$19 -> 0 | M22: =M$19 -> 0 | N22: =N$19 -> 0 | O22: =O$19 -> 0 | P22: =P$19 -> 0 | Q22: =Q$19 -> 0 | ... AS22: =AS$19 -> 0
E23: Copper production: historic + forecast | G23: tonnes | I23: =SUM(K23:AS23) -> 1887633 | K23: =IF(K21 > 0, K21, K22) -> 0 | L23: =IF(L21 > 0, L21, L22) -> 0 | M23: =IF(M21 > 0, M21, M22) -> 0 | N23: =IF(N21 > 0, N21, N22) -> 0 | O23: =IF(O21 > 0, O21, O22) -> 0 | P23: =IF(P21 > 0, P21, P22) -> 0 | Q23: =IF(Q21 > 0, Q21, Q22) -> 0 | R23: =IF(R21 > 0, R21, R22) -> 0 | ... AS23: =IF(AS21 > 0, AS21, AS22) -> 0
C25: Copper cathode
E26: =Inputs_TS!E$100 -> Total historic copper production (Zijin annual reports) | G26: =Inputs_TS!G$100 -> tonnes | H26: =Inputs_TS!H$100 -> IX | J26: =Inputs_TS!J$100 -> 0 | K26: =Inputs_TS!K$100 -> 0 | L26: =Inputs_TS!L$100 -> 0 | M26: =Inputs_TS!M$100 -> 0 | N26: =Inputs_TS!N$100 -> 0 | O26: =Inputs_TS!O$100 -> 0 | P26: =Inputs_TS!P$100 -> 0 | Q26: =Inputs_TS!Q$100 -> 0 | ... AS26: =Inputs_TS!AS$100 -> 0
E27: =Inputs_TS!E$101 -> Copper cathode (Zijin annual reports) | G27: =Inputs_TS!G$101 -> tonnes | H27: =Inputs_TS!H$101 -> IX | J27: =Inputs_TS!J$101 -> 0 | K27: =Inputs_TS!K$101 -> 0 | L27: =Inputs_TS!L$101 -> 0 | M27: =Inputs_TS!M$101 -> 0 | N27: =Inputs_TS!N$101 -> 0 | O27: =Inputs_TS!O$101 -> 0 | P27: =Inputs_TS!P$101 -> 0 | Q27: =Inputs_TS!Q$101 -> 0 | ... AS27: =Inputs_TS!AS$101 -> 0
E28: 2020 onwards flag | G28: flag | K28: =(K2 >= 2020)* 1 -> 0 | L28: =(L2 >= 2020)* 1 -> 0 | M28: =(M2 >= 2020)* 1 -> 0 | N28: =(N2 >= 2020)* 1 -> 0 | O28: =(O2 >= 2020)* 1 -> 0 | P28: =(P2 >= 2020)* 1 -> 0 | Q28: =(Q2 >= 2020)* 1 -> 0 | R28: =(R2 >= 2020)* 1 -> 0 | ... AS28: =(AS2 >= 2020)* 1 -> 1
E29: Copper cathode to total copper (2020 onwards) | F29: =AVERAGEIF(S29:AS29, "<>0") -> 0.53921312 | G29: % | K29: =IFERROR(K27/K26 * K28, 0) -> 0 | L29: =IFERROR(L27/L26 * L28, 0) -> 0 | M29: =IFERROR(M27/M26 * M28, 0) -> 0 | N29: =IFERROR(N27/N26 * N28, 0) -> 0 | O29: =IFERROR(O27/O26 * O28, 0) -> 0 | P29: =IFERROR(P27/P26 * P28, 0) -> 0 | Q29: =IFERROR(Q27/Q26 * Q28, 0) -> 0 | R29: =IFERROR(R27/R26 * R28, 0) -> 0 | ... AS29: =IFERROR(AS27/AS26 * AS28, 0) -> 0
E31: =E$23 -> Copper production: historic + forecast | G31: =G$23 -> tonnes | I31: =I$23 -> 1887633 | J31: =J$23 -> 0 | K31: =K$23 -> 0 | L31: =L$23 -> 0 | M31: =M$23 -> 0 | N31: =N$23 -> 0 | O31: =O$23 -> 0 | P31: =P$23 -> 0 | ... AS31: =AS$23 -> 0
E32: =E$29 -> Copper cathode to total copper (2020 onwards) | F32: =F$29 -> 0.53921312 | G32: =G$29 -> %
E33: 2025 onwards flag | G33: flag | K33: =(K2 >= 2025) * 1 -> 0 | L33: =(L2 >= 2025) * 1 -> 0 | M33: =(M2 >= 2025) * 1 -> 0 | N33: =(N2 >= 2025) * 1 -> 0 | O33: =(O2 >= 2025) * 1 -> 0 | P33: =(P2 >= 2025) * 1 -> 0 | Q33: =(Q2 >= 2025) * 1 -> 0 | R33: =(R2 >= 2025) * 1 -> 0 | ... AS33: =(AS2 >= 2025) * 1 -> 1
E34: Copper cathode forecast | G34: tonnes | K34: =K33 * K31 * $F32 -> 0 | L34: =L33 * L31 * $F32 -> 0 | M34: =M33 * M31 * $F32 -> 0 | N34: =N33 * N31 * $F32 -> 0 | O34: =O33 * O31 * $F32 -> 0 | P34: =P33 * P31 * $F32 -> 0 | Q34: =Q33 * Q31 * $F32 -> 0 | R34: =R33 * R31 * $F32 -> 0 | ... AS34: =AS33 * AS31 * $F32 -> 0
E36: =Inputs_TS!E$101 -> Copper cathode (Zijin annual reports) | G36: =Inputs_TS!G$101 -> tonnes | H36: =Inputs_TS!H$101 -> IX | J36: =Inputs_TS!J$101 -> 0 | K36: =Inputs_TS!K$101 -> 0 | L36: =Inputs_TS!L$101 -> 0 | M36: =Inputs_TS!M$101 -> 0 | N36: =Inputs_TS!N$101 -> 0 | O36: =Inputs_TS!O$101 -> 0 | P36: =Inputs_TS!P$101 -> 0 | Q36: =Inputs_TS!Q$101 -> 0 | ... AS36: =Inputs_TS!AS$101 -> 0
E37: =E$34 -> Copper cathode forecast | F37: =F$34 -> 0 | G37: =G$34 -> tonnes | J37: =J$34 -> 0 | K37: =K$34 -> 0 | L37: =L$34 -> 0 | M37: =M$34 -> 0 | N37: =N$34 -> 0 | O37: =O$34 -> 0 | P37: =P$34 -> 0 | Q37: =Q$34 -> 0 | ... AS37: =AS$34 -> 0
E38: Copper cathode production: historic + forecast | G38: tonnes | I38: =SUM(K38:AS38) -> 958490.6 | K38: =K36 + K37 -> 0 | L38: =L36 + L37 -> 0 | M38: =M36 + M37 -> 0 | N38: =N36 + N37 -> 0 | O38: =O36 + O37 -> 0 | P38: =P36 + P37 -> 0 | Q38: =Q36 + Q37 -> 0 | R38: =R36 + R37 -> 0 | ... AS38: =AS36 + AS37 -> 0
C40: Other copper
E41: =E$23 -> Copper production: historic + forecast | F41: =F$23 -> 0 | G41: =G$23 -> tonnes | H41: =H$23 -> 0 | I41: =I$23 -> 1887633 | J41: =J$23 -> 0 | K41: =K$23 -> 0 | L41: =L$23 -> 0 | ... AS41: =AS$23 -> 0
E42: =E$38 -> Copper cathode production: historic + forecast | F42: =F$38 -> 0 | G42: =G$38 -> tonnes | H42: =H$38 -> 0 | I42: =I$38 -> 958490.6 | J42: =J$38 -> 0 | K42: =K$38 -> 0 | L42: =L$38 -> 0 | ... AS42: =AS$38 -> 0
E43: Other copper production: historic + forecast | G43: tonnes | I43: =SUM(K43:AS43) -> 929142.4 | K43: =K41 - K42 -> 0 | L43: =L41 - L42 -> 0 | M43: =M41 - M42 -> 0 | N43: =N41 - N42 -> 0 | O43: =O41 - O42 -> 0 | P43: =P41 - P42 -> 0 | Q43: =Q41 - Q42 -> 0 | R43: =R41 - R42 -> 0 | ... AS43: =AS41 - AS42 -> 0
C45: Copper production into model (Original)
E46: =Inputs_Con!E$13 -> Production case: FS or original | F46: =Inputs_Con!F$13 -> FS | G46: =Inputs_Con!G$13 -> selected
E47: =E$38 -> Copper cathode production: historic + forecast | F47: =F$38 -> 0 | G47: =G$38 -> tonnes | H47: =H$38 -> 0 | I47: =I$38 -> 958490.6 | J47: =J$38 -> 0 | K47: =K$38 -> 0 | L47: =L$38 -> 0 | ... AS47: =AS$38 -> 0
E48: =E$43 -> Other copper production: historic + forecast | F48: =F$43 -> 0 | G48: =G$43 -> tonnes | H48: =H$43 -> 0 | I48: =I$43 -> 929142.4 | J48: =J$43 -> 0 | K48: =K$43 -> 0 | L48: =L$43 -> 0 | ... AS48: =AS$43 -> 0
E50: =Inputs_TS!E$17 -> Copper production sensitivity (forecast period) | F50: =Inputs_TS!F$17 -> 0 | G50: =Inputs_TS!G$17 -> % | H50: =Inputs_TS!H$17 -> 0 | I50: =Inputs_TS!I$17 -> 0 | J50: =Inputs_TS!J$17 -> 0 | K50: =Inputs_TS!K$17 -> 1 | L50: =Inputs_TS!L$17 -> 1 | ... AS50: =Inputs_TS!AS$17 -> 1
E52: Copper cathode production: Original | G52: KT Cu | I52: =SUM(K52:AS52) -> 0 | K52: =IF($F$46 = "Original", K47, 0) * 10^-3 * K$50 -> 0 | L52: =IF($F$46 = "Original", L47, 0) * 10^-3 * L$50 -> 0 | M52: =IF($F$46 = "Original", M47, 0) * 10^-3 * M$50 -> 0 | N52: =IF($F$46 = "Original", N47, 0) * 10^-3 * N$50 -> 0 | O52: =IF($F$46 = "Original", O47, 0) * 10^-3 * O$50 -> 0 | P52: =IF($F$46 = "Original", P47, 0) * 10^-3 * P$50 -> 0 | Q52: =IF($F$46 = "Original", Q47, 0) * 10^-3 * Q$50 -> 0 | R52: =IF($F$46 = "Original", R47, 0) * 10^-3 * R$50 -> 0 | ... AS52: =IF($F$46 = "Original", AS47, 0) * 10^-3 * AS$50 -> 0
E53: Other copper production: Original | G53: KT Cu | I53: =SUM(K53:AS53) -> 0 | K53: =IF($F$46 = "Original", K48, 0) * 10^-3 * K$50 -> 0 | L53: =IF($F$46 = "Original", L48, 0) * 10^-3 * L$50 -> 0 | M53: =IF($F$46 = "Original", M48, 0) * 10^-3 * M$50 -> 0 | N53: =IF($F$46 = "Original", N48, 0) * 10^-3 * N$50 -> 0 | O53: =IF($F$46 = "Original", O48, 0) * 10^-3 * O$50 -> 0 | P53: =IF($F$46 = "Original", P48, 0) * 10^-3 * P$50 -> 0 | Q53: =IF($F$46 = "Original", Q48, 0) * 10^-3 * Q$50 -> 0 | R53: =IF($F$46 = "Original", R48, 0) * 10^-3 * R$50 -> 0 | ... AS53: =IF($F$46 = "Original", AS48, 0) * 10^-3 * AS$50 -> 0
...

Sheet EITI_Rev
A1: =RIGHT(CELL("filename", $A$3), LEN(CELL("filename", $A$3)) - SEARCH("]", CELL("filename", $A$3))) -> EITI_Rev
F2: =Track!F$80 -> 0 | G2: Error chks | K2: ='T&E'!K$9 -> 2006 | L2: ='T&E'!L$9 -> 2007 | M2: ='T&E'!M$9 -> 2008 | N2: ='T&E'!N$9 -> 2009 | O2: ='T&E'!O$9 -> 2010 | P2: ='T&E'!P$9 -> 2011 | Q2: ='T&E'!Q$9 -> 2012 | R2: ='T&E'!R$9 -> 2013 | ... AS2: ='T&E'!AS$9 -> 2040
F3: =Track!F$3 -> 0 | G3: Track chgs | K3: Actual | L3: Actual | M3: Actual | N3: Actual | O3: Actual | P3: Actual | Q3: Actual | R3: Actual | S3: Actual | T3: Actual | U3: Actual | V3: Actual | W3: Actual | X3: Actual | Y3: Actual | Z3: Actual | AA3: Actual | AB3: Actual | AC3: Actual | AD3: Actual | AE3: Actual | AF3: Actual | AG3: Actual | AH3: Actual | AI3: Actual | AJ3: Actual | AK3: Actual | AL3: Actual | AM3: Actual | AN3: Actual | AO3: Actual | AP3: Actual | AQ3: Actual | AR3: Actual | AS3: Actual
F4: Constant | G4: Units | H4: Source / Comments | K4: ='T&E'!K$11 -> 1 | L4: ='T&E'!L$11 -> 2 | M4: ='T&E'!M$11 -> 3 | N4: ='T&E'!N$11 -> 4 | O4: ='T&E'!O$11 -> 5 | P4: ='T&E'!P$11 -> 6 | Q4: ='T&E'!Q$11 -> 7 | R4: ='T&E'!R$11 -> 8 | ... AS4: ='T&E'!AS$11 -> 35
A6: EITI REPORTED REVENUES
F7: Compared
E8: AMR-A (EITI) | F8: yes | G8: $ mn | I8: =SUM(K8:AA8) -> 13.512836 | K8: 0.000105 | L8: 0.000105 | M8: 0.000105 | N8: 0.000105 | O8: 0.000105 | P8: 0.000105 | Q8: 0 | R8: 0 | S8: 0 | T8: 0 | U8: 0 | V8: 0.00929108 | X8: 0.492227 | Y8: 0.145884 | Z8: 4.509746 | AA8: 8.355058
E9: AMR-B (EITI) | F9: yes | G9: $ mn | I9: =SUM(K9:AA9) -> 0.37848983 | K9: 0.000149 | L9: 0.000149 | M9: 0.000149 | N9: 0.000149 | O9: 0.000149 | P9: 0.000149 | Q9: 0 | R9: 0 | S9: 0 | T9: 0 | U9: 0 | V9: 0.00266883 | X9: 0.127547 | Z9: 0.159233 | AA9: 0.088147
